Package: CNORfeeder Version: 1.47.0 Command: /home/biocbuild/R/R/bin/R CMD check --install=check:CNORfeeder.install-out.txt --library=/home/biocbuild/R/R/site-library --no-vignettes --timings CNORfeeder_1.47.0.tar.gz StartedAt: 2025-01-28 09:18:51 -0000 (Tue, 28 Jan 2025) EndedAt: 2025-01-28 09:20:06 -0000 (Tue, 28 Jan 2025) EllapsedTime: 75.1 seconds RetCode: 0 Status: WARNINGS CheckDir: CNORfeeder.Rcheck Warnings: 1