Package: CNORfeeder Version: 1.47.0 Command: /home/biocbuild/R/R/bin/R CMD build --keep-empty-dirs --no-resave-data CNORfeeder StartedAt: 2025-01-28 21:59:07 -0000 (Tue, 28 Jan 2025) EndedAt: 2025-01-28 21:59:23 -0000 (Tue, 28 Jan 2025) EllapsedTime: 16.0 seconds RetCode: 0 Status: OK PackageFile: CNORfeeder_1.47.0.tar.gz PackageFileSize: 3.428 MiB