Package: CNORdt Version: 1.49.0 Command: chmod a+r CNORdt -R && E:\biocbuild\bbs-3.21-bioc\R\bin\R.exe CMD build --keep-empty-dirs --no-resave-data CNORdt StartedAt: 2025-02-19 17:57:31 -0500 (Wed, 19 Feb 2025) EndedAt: 2025-02-19 17:58:23 -0500 (Wed, 19 Feb 2025) EllapsedTime: 52.0 seconds RetCode: 0 Status: OK PackageFile: CNORdt_1.49.0.tar.gz PackageFileSize: 204 KiB