Package: CNORdt Version: 1.49.0 Command: /home/biocbuild/bbs-3.21-bioc/R/bin/R CMD INSTALL CNORdt StartedAt: 2025-02-20 15:23:03 -0500 (Thu, 20 Feb 2025) EndedAt: 2025-02-20 15:23:05 -0500 (Thu, 20 Feb 2025) EllapsedTime: 2.0 seconds RetCode: 1 Status: ERROR