Package: CNORdt Version: 1.49.0 Command: /Library/Frameworks/R.framework/Resources/bin/R CMD INSTALL CNORdt StartedAt: 2025-02-20 15:24:30 -0500 (Thu, 20 Feb 2025) EndedAt: 2025-02-20 15:24:41 -0500 (Thu, 20 Feb 2025) EllapsedTime: 11.4 seconds RetCode: 0 Status: OK