Package: CNORdt Version: 1.49.0 Command: /Library/Frameworks/R.framework/Resources/bin/R CMD check --install=check:CNORdt.install-out.txt --library=/Library/Frameworks/R.framework/Resources/library --no-vignettes --timings CNORdt_1.49.0.tar.gz StartedAt: 2025-02-20 19:35:09 -0500 (Thu, 20 Feb 2025) EndedAt: 2025-02-20 19:37:11 -0500 (Thu, 20 Feb 2025) EllapsedTime: 122.3 seconds RetCode: 0 Status: OK CheckDir: CNORdt.Rcheck Warnings: 0