Package: CNEr Version: 1.43.0 Command: rm -rf CNEr.buildbin-libdir && mkdir CNEr.buildbin-libdir && /Users/biocbuild/BBS/utils/build-universal.sh CNEr_1.43.0.tar.gz /Library/Frameworks/R.framework/Resources/bin/R CNEr.buildbin-libdir StartedAt: 2025-02-19 22:17:25 -0500 (Wed, 19 Feb 2025) EndedAt: 2025-02-19 22:17:49 -0500 (Wed, 19 Feb 2025) EllapsedTime: 24.5 seconds RetCode: 0 Status: OK PackageFile: CNEr_1.43.0.tgz PackageFileSize: 10.5 MiB