Package: CNAnorm Version: 1.53.0 Command: E:\biocbuild\bbs-3.21-bioc\R\bin\R.exe CMD INSTALL CNAnorm StartedAt: 2025-02-20 15:26:07 -0500 (Thu, 20 Feb 2025) EndedAt: 2025-02-20 15:26:44 -0500 (Thu, 20 Feb 2025) EllapsedTime: 36.5 seconds RetCode: 0 Status: OK