Package: CNAnorm Version: 1.53.0 Command: E:\biocbuild\bbs-3.21-bioc\R\bin\R.exe CMD check --no-multiarch --install=check:CNAnorm.install-out.txt --library=E:\biocbuild\bbs-3.21-bioc\R\library --no-vignettes --timings CNAnorm_1.53.0.tar.gz StartedAt: 2025-02-20 23:58:01 -0500 (Thu, 20 Feb 2025) EndedAt: 2025-02-20 23:59:07 -0500 (Thu, 20 Feb 2025) EllapsedTime: 66.1 seconds RetCode: 0 Status: OK CheckDir: CNAnorm.Rcheck Warnings: 0