Package: CNAnorm Version: 1.53.0 Command: rm -rf CNAnorm.buildbin-libdir && mkdir CNAnorm.buildbin-libdir && E:\biocbuild\bbs-3.21-bioc\R\bin\R.exe CMD INSTALL --build --library=CNAnorm.buildbin-libdir CNAnorm_1.53.0.tar.gz StartedAt: 2025-02-21 07:49:32 -0500 (Fri, 21 Feb 2025) EndedAt: 2025-02-21 07:50:14 -0500 (Fri, 21 Feb 2025) EllapsedTime: 41.3 seconds RetCode: 0 Status: OK PackageFile: CNAnorm_1.53.0.zip PackageFileSize: 1.744 MiB