Package: CNAnorm Version: 1.53.0 Command: /home/biocbuild/bbs-3.21-bioc/R/bin/R CMD INSTALL CNAnorm StartedAt: 2025-02-20 15:01:47 -0500 (Thu, 20 Feb 2025) EndedAt: 2025-02-20 15:01:52 -0500 (Thu, 20 Feb 2025) EllapsedTime: 4.7 seconds RetCode: 0 Status: OK