Package: CNAnorm Version: 1.53.0 Command: /home/biocbuild/bbs-3.21-bioc/R/bin/R CMD build --keep-empty-dirs --no-resave-data CNAnorm StartedAt: 2025-02-20 16:57:57 -0500 (Thu, 20 Feb 2025) EndedAt: 2025-02-20 16:58:13 -0500 (Thu, 20 Feb 2025) EllapsedTime: 16.0 seconds RetCode: 0 Status: OK PackageFile: CNAnorm_1.53.0.tar.gz PackageFileSize: 1.521 MiB