Package: CNAnorm Version: 1.53.0 Command: /Library/Frameworks/R.framework/Resources/bin/R CMD INSTALL CNAnorm StartedAt: 2025-02-20 15:07:04 -0500 (Thu, 20 Feb 2025) EndedAt: 2025-02-20 15:07:38 -0500 (Thu, 20 Feb 2025) EllapsedTime: 33.6 seconds RetCode: 0 Status: OK