Package: CNAnorm Version: 1.53.0 Command: rm -rf CNAnorm.buildbin-libdir && mkdir CNAnorm.buildbin-libdir && /Users/biocbuild/BBS/utils/build-universal.sh CNAnorm_1.53.0.tar.gz /Library/Frameworks/R.framework/Resources/bin/R CNAnorm.buildbin-libdir StartedAt: 2025-02-21 00:24:39 -0500 (Fri, 21 Feb 2025) EndedAt: 2025-02-21 00:24:51 -0500 (Fri, 21 Feb 2025) EllapsedTime: 12.7 seconds RetCode: 0 Status: OK PackageFile: CNAnorm_1.53.0.tgz PackageFileSize: 1.846 MiB