Package: CNAnorm Version: 1.53.0 Command: /Library/Frameworks/R.framework/Resources/bin/R CMD check --install=check:CNAnorm.install-out.txt --library=/Library/Frameworks/R.framework/Resources/library --no-vignettes --timings CNAnorm_1.53.0.tar.gz StartedAt: 2025-02-20 18:35:14 -0500 (Thu, 20 Feb 2025) EndedAt: 2025-02-20 18:35:36 -0500 (Thu, 20 Feb 2025) EllapsedTime: 22.2 seconds RetCode: 0 Status: OK CheckDir: CNAnorm.Rcheck Warnings: 0