Package: CMA Version: 1.65.0 Command: chmod a+r CMA -R && E:\biocbuild\bbs-3.21-bioc\R\bin\R.exe CMD build --keep-empty-dirs --no-resave-data CMA StartedAt: 2025-02-19 17:57:15 -0500 (Wed, 19 Feb 2025) EndedAt: 2025-02-19 17:58:24 -0500 (Wed, 19 Feb 2025) EllapsedTime: 69.1 seconds RetCode: 0 Status: OK PackageFile: CMA_1.65.0.tar.gz PackageFileSize: 1.033 MiB