Package: CMA Version: 1.65.0 Command: /home/biocbuild/bbs-3.21-bioc/R/bin/R CMD build --keep-empty-dirs --no-resave-data CMA StartedAt: 2025-02-19 16:41:39 -0500 (Wed, 19 Feb 2025) EndedAt: 2025-02-19 16:42:05 -0500 (Wed, 19 Feb 2025) EllapsedTime: 26.0 seconds RetCode: 0 Status: OK PackageFile: CMA_1.65.0.tar.gz PackageFileSize: 1.21 MiB