Package: CMA Version: 1.65.0 Command: /Library/Frameworks/R.framework/Resources/bin/R CMD INSTALL CMA StartedAt: 2025-02-20 15:04:41 -0500 (Thu, 20 Feb 2025) EndedAt: 2025-02-20 15:05:15 -0500 (Thu, 20 Feb 2025) EllapsedTime: 34.2 seconds RetCode: 0 Status: OK