Package: CINdex Version: 1.35.0 Command: E:\biocbuild\bbs-3.21-bioc\R\bin\R.exe CMD INSTALL CINdex StartedAt: 2025-02-19 15:41:09 -0500 (Wed, 19 Feb 2025) EndedAt: 2025-02-19 15:41:39 -0500 (Wed, 19 Feb 2025) EllapsedTime: 30.5 seconds RetCode: 0 Status: OK