Package: CINdex Version: 1.35.0 Command: chmod a+r CINdex -R && E:\biocbuild\bbs-3.21-bioc\R\bin\R.exe CMD build --keep-empty-dirs --no-resave-data CINdex StartedAt: 2025-02-19 17:53:19 -0500 (Wed, 19 Feb 2025) EndedAt: 2025-02-19 17:58:12 -0500 (Wed, 19 Feb 2025) EllapsedTime: 293.5 seconds RetCode: 0 Status: OK PackageFile: CINdex_1.35.0.tar.gz PackageFileSize: 12.5 MiB