Package: CHRONOS Version: 1.35.0 Command: /Library/Frameworks/R.framework/Resources/bin/R CMD check --install=check:CHRONOS.install-out.txt --library=/Library/Frameworks/R.framework/Resources/library --no-vignettes --timings CHRONOS_1.35.0.tar.gz StartedAt: 2025-02-20 19:29:18 -0500 (Thu, 20 Feb 2025) EndedAt: 2025-02-20 19:32:10 -0500 (Thu, 20 Feb 2025) EllapsedTime: 171.8 seconds RetCode: 0 Status: OK CheckDir: CHRONOS.Rcheck Warnings: 0