Package: CHRONOS Version: 1.35.0 Command: /Library/Frameworks/R.framework/Resources/bin/R CMD INSTALL CHRONOS StartedAt: 2025-02-19 15:27:04 -0500 (Wed, 19 Feb 2025) EndedAt: 2025-02-19 15:27:12 -0500 (Wed, 19 Feb 2025) EllapsedTime: 8.3 seconds RetCode: 0 Status: OK