Package: CHETAH Version: 1.23.0 Command: chmod a+r CHETAH -R && E:\biocbuild\bbs-3.21-bioc\R\bin\R.exe CMD build --keep-empty-dirs --no-resave-data CHETAH StartedAt: 2025-02-20 17:51:12 -0500 (Thu, 20 Feb 2025) EndedAt: 2025-02-20 17:52:32 -0500 (Thu, 20 Feb 2025) EllapsedTime: 80.1 seconds RetCode: 0 Status: OK PackageFile: CHETAH_1.23.0.tar.gz PackageFileSize: 3.258 MiB