Package: CHETAH Version: 1.23.0 Command: rm -rf CHETAH.buildbin-libdir && mkdir CHETAH.buildbin-libdir && E:\biocbuild\bbs-3.21-bioc\R\bin\R.exe CMD INSTALL --build --library=CHETAH.buildbin-libdir CHETAH_1.23.0.tar.gz StartedAt: 2025-02-21 07:46:13 -0500 (Fri, 21 Feb 2025) EndedAt: 2025-02-21 07:46:52 -0500 (Fri, 21 Feb 2025) EllapsedTime: 38.6 seconds RetCode: 0 Status: OK PackageFile: CHETAH_1.23.0.zip PackageFileSize: 3.235 MiB