Package: CHETAH Version: 1.23.0 Command: /home/biocbuild/bbs-3.21-bioc/R/bin/R CMD INSTALL CHETAH StartedAt: 2025-02-21 16:34:37 -0500 (Fri, 21 Feb 2025) EndedAt: 2025-02-21 16:35:04 -0500 (Fri, 21 Feb 2025) EllapsedTime: 26.9 seconds RetCode: 0 Status: OK