Package: CHETAH Version: 1.23.0 Command: /home/biocbuild/bbs-3.21-bioc/R/bin/R CMD build --keep-empty-dirs --no-resave-data CHETAH StartedAt: 2025-02-21 17:14:14 -0500 (Fri, 21 Feb 2025) EndedAt: 2025-02-21 17:15:17 -0500 (Fri, 21 Feb 2025) EllapsedTime: 63.1 seconds RetCode: 0 Status: OK PackageFile: CHETAH_1.23.0.tar.gz PackageFileSize: 3.501 MiB