Package: CHETAH Version: 1.23.0 Command: /Library/Frameworks/R.framework/Resources/bin/R CMD INSTALL CHETAH StartedAt: 2025-02-21 15:25:49 -0500 (Fri, 21 Feb 2025) EndedAt: 2025-02-21 15:26:27 -0500 (Fri, 21 Feb 2025) EllapsedTime: 37.6 seconds RetCode: 0 Status: OK