Package: CHETAH Version: 1.23.0 Command: /Library/Frameworks/R.framework/Resources/bin/R CMD build --keep-empty-dirs --no-resave-data CHETAH StartedAt: 2025-02-21 16:12:18 -0500 (Fri, 21 Feb 2025) EndedAt: 2025-02-21 16:13:19 -0500 (Fri, 21 Feb 2025) EllapsedTime: 61.6 seconds RetCode: 0 Status: OK PackageFile: CHETAH_1.23.0.tar.gz PackageFileSize: 3.578 MiB