Package: CHETAH Version: 1.23.0 Command: rm -rf CHETAH.buildbin-libdir && mkdir CHETAH.buildbin-libdir && /Users/biocbuild/BBS/utils/build-universal.sh CHETAH_1.23.0.tar.gz /Library/Frameworks/R.framework/Resources/bin/R CHETAH.buildbin-libdir StartedAt: 2025-02-21 00:23:28 -0500 (Fri, 21 Feb 2025) EndedAt: 2025-02-21 00:24:09 -0500 (Fri, 21 Feb 2025) EllapsedTime: 40.3 seconds RetCode: 0 Status: OK PackageFile: CHETAH_1.23.0.tgz PackageFileSize: 3.552 MiB