Package: CHETAH Version: 1.23.0 Command: /Library/Frameworks/R.framework/Resources/bin/R CMD check --install=check:CHETAH.install-out.txt --library=/Library/Frameworks/R.framework/Resources/library --no-vignettes --timings CHETAH_1.23.0.tar.gz StartedAt: 2025-02-21 19:05:41 -0500 (Fri, 21 Feb 2025) EndedAt: 2025-02-21 19:07:12 -0500 (Fri, 21 Feb 2025) EllapsedTime: 91.1 seconds RetCode: 0 Status: OK CheckDir: CHETAH.Rcheck Warnings: 0