Package: CHETAH Version: 1.23.0 Command: /Library/Frameworks/R.framework/Resources/bin/R CMD build --keep-empty-dirs --no-resave-data CHETAH StartedAt: 2025-02-20 15:52:22 -0500 (Thu, 20 Feb 2025) EndedAt: 2025-02-20 15:52:45 -0500 (Thu, 20 Feb 2025) EllapsedTime: 22.2 seconds RetCode: 0 Status: OK PackageFile: CHETAH_1.23.0.tar.gz PackageFileSize: 3.579 MiB