Package: CGHregions Version: 1.65.0 Command: E:\biocbuild\bbs-3.21-bioc\R\bin\R.exe CMD INSTALL CGHregions StartedAt: 2025-02-17 15:30:19 -0500 (Mon, 17 Feb 2025) EndedAt: 2025-02-17 15:30:30 -0500 (Mon, 17 Feb 2025) EllapsedTime: 10.3 seconds RetCode: 0 Status: OK