Package: CGHregions Version: 1.65.0 Command: /home/biocbuild/bbs-3.21-bioc/R/bin/R CMD check --install=check:CGHregions.install-out.txt --library=/home/biocbuild/bbs-3.21-bioc/R/site-library --timings CGHregions_1.65.0.tar.gz StartedAt: 2025-02-17 20:41:39 -0500 (Mon, 17 Feb 2025) EndedAt: 2025-02-17 20:42:13 -0500 (Mon, 17 Feb 2025) EllapsedTime: 34.1 seconds RetCode: 0 Status: OK CheckDir: CGHregions.Rcheck Warnings: 0