Package: CGHregions Version: 1.65.0 Command: /Library/Frameworks/R.framework/Resources/bin/R CMD build --keep-empty-dirs --no-resave-data CGHregions StartedAt: 2025-02-17 16:11:08 -0500 (Mon, 17 Feb 2025) EndedAt: 2025-02-17 16:11:20 -0500 (Mon, 17 Feb 2025) EllapsedTime: 12.6 seconds RetCode: 0 Status: OK PackageFile: CGHregions_1.65.0.tar.gz PackageFileSize: 213 KiB