Package: CGHregions Version: 1.65.0 Command: /Library/Frameworks/R.framework/Resources/bin/R CMD INSTALL CGHregions StartedAt: 2025-02-17 15:03:45 -0500 (Mon, 17 Feb 2025) EndedAt: 2025-02-17 15:03:47 -0500 (Mon, 17 Feb 2025) EllapsedTime: 2.1 seconds RetCode: 0 Status: OK