Package: CGHregions Version: 1.65.0 Command: /Library/Frameworks/R.framework/Resources/bin/R CMD check --install=check:CGHregions.install-out.txt --library=/Library/Frameworks/R.framework/Resources/library --no-vignettes --timings CGHregions_1.65.0.tar.gz StartedAt: 2025-02-17 18:28:05 -0500 (Mon, 17 Feb 2025) EndedAt: 2025-02-17 18:28:22 -0500 (Mon, 17 Feb 2025) EllapsedTime: 17.3 seconds RetCode: 0 Status: OK CheckDir: CGHregions.Rcheck Warnings: 0