Package: CGHregions Version: 1.65.0 Command: /Library/Frameworks/R.framework/Resources/bin/R CMD build --keep-empty-dirs --no-resave-data CGHregions StartedAt: 2025-02-17 15:51:46 -0500 (Mon, 17 Feb 2025) EndedAt: 2025-02-17 15:51:51 -0500 (Mon, 17 Feb 2025) EllapsedTime: 5.0 seconds RetCode: 0 Status: OK PackageFile: CGHregions_1.65.0.tar.gz PackageFileSize: 213.6 KiB