Package: CGHnormaliter Version: 1.61.0 Command: /home/biocbuild/bbs-3.21-bioc/R/bin/R CMD check --install=check:CGHnormaliter.install-out.txt --library=/home/biocbuild/bbs-3.21-bioc/R/site-library --timings CGHnormaliter_1.61.0.tar.gz StartedAt: 2025-02-19 20:46:02 -0500 (Wed, 19 Feb 2025) EndedAt: 2025-02-19 20:48:01 -0500 (Wed, 19 Feb 2025) EllapsedTime: 119.2 seconds RetCode: 0 Status: OK CheckDir: CGHnormaliter.Rcheck Warnings: 0