Package: CGHnormaliter Version: 1.61.0 Command: /Library/Frameworks/R.framework/Resources/bin/R CMD INSTALL CGHnormaliter StartedAt: 2025-02-17 15:08:22 -0500 (Mon, 17 Feb 2025) EndedAt: 2025-02-17 15:08:44 -0500 (Mon, 17 Feb 2025) EllapsedTime: 22.0 seconds RetCode: 0 Status: OK