Package: CGHnormaliter Version: 1.61.0 Command: /Library/Frameworks/R.framework/Resources/bin/R CMD check --install=check:CGHnormaliter.install-out.txt --library=/Library/Frameworks/R.framework/Resources/library --no-vignettes --timings CGHnormaliter_1.61.0.tar.gz StartedAt: 2025-02-17 19:23:48 -0500 (Mon, 17 Feb 2025) EndedAt: 2025-02-17 19:25:19 -0500 (Mon, 17 Feb 2025) EllapsedTime: 90.7 seconds RetCode: 0 Status: OK CheckDir: CGHnormaliter.Rcheck Warnings: 0