Package: CGHnormaliter Version: 1.61.0 Command: /Library/Frameworks/R.framework/Resources/bin/R CMD build --keep-empty-dirs --no-resave-data CGHnormaliter StartedAt: 2025-02-17 16:10:56 -0500 (Mon, 17 Feb 2025) EndedAt: 2025-02-17 16:11:48 -0500 (Mon, 17 Feb 2025) EllapsedTime: 51.5 seconds RetCode: 0 Status: OK PackageFile: CGHnormaliter_1.61.0.tar.gz PackageFileSize: 1.245 MiB