Package: CGHnormaliter Version: 1.61.0 Command: rm -rf CGHnormaliter.buildbin-libdir && mkdir CGHnormaliter.buildbin-libdir && /Users/biocbuild/BBS/utils/build-universal.sh CGHnormaliter_1.61.0.tar.gz /Library/Frameworks/R.framework/Resources/bin/R CGHnormaliter.buildbin-libdir StartedAt: 2025-02-18 00:17:45 -0500 (Tue, 18 Feb 2025) EndedAt: 2025-02-18 00:17:53 -0500 (Tue, 18 Feb 2025) EllapsedTime: 8.1 seconds RetCode: 0 Status: OK PackageFile: CGHnormaliter_1.61.0.tgz PackageFileSize: 1.266 MiB