Package: CGHcall Version: 2.69.0 Command: E:\biocbuild\bbs-3.21-bioc\R\bin\R.exe CMD check --no-multiarch --install=check:CGHcall.install-out.txt --library=E:\biocbuild\bbs-3.21-bioc\R\library --no-vignettes --timings CGHcall_2.69.0.tar.gz StartedAt: 2025-02-19 23:33:06 -0500 (Wed, 19 Feb 2025) EndedAt: 2025-02-19 23:33:55 -0500 (Wed, 19 Feb 2025) EllapsedTime: 49.3 seconds RetCode: 0 Status: WARNINGS CheckDir: CGHcall.Rcheck Warnings: 1