Package: CGHcall Version: 2.69.0 Command: chmod a+r CGHcall -R && E:\biocbuild\bbs-3.21-bioc\R\bin\R.exe CMD build --keep-empty-dirs --no-resave-data CGHcall StartedAt: 2025-02-19 17:48:25 -0500 (Wed, 19 Feb 2025) EndedAt: 2025-02-19 17:49:06 -0500 (Wed, 19 Feb 2025) EllapsedTime: 41.3 seconds RetCode: 0 Status: OK PackageFile: CGHcall_2.69.0.tar.gz PackageFileSize: 339.6 KiB