Package: CGHcall Version: 2.69.0 Command: /Library/Frameworks/R.framework/Resources/bin/R CMD INSTALL CGHcall StartedAt: 2025-02-19 15:08:03 -0500 (Wed, 19 Feb 2025) EndedAt: 2025-02-19 15:08:21 -0500 (Wed, 19 Feb 2025) EllapsedTime: 17.8 seconds RetCode: 0 Status: OK