Package: CGHbase Version: 1.67.0 Command: /home/biocbuild/bbs-3.21-bioc/R/bin/R CMD INSTALL CGHbase StartedAt: 2025-02-19 15:14:25 -0500 (Wed, 19 Feb 2025) EndedAt: 2025-02-19 15:14:31 -0500 (Wed, 19 Feb 2025) EllapsedTime: 5.5 seconds RetCode: 0 Status: OK