Package: CGHbase Version: 1.67.0 Command: rm -rf CGHbase.buildbin-libdir && mkdir CGHbase.buildbin-libdir && /Users/biocbuild/BBS/utils/build-universal.sh CGHbase_1.67.0.tar.gz /Library/Frameworks/R.framework/Resources/bin/R CGHbase.buildbin-libdir StartedAt: 2025-02-19 22:16:27 -0500 (Wed, 19 Feb 2025) EndedAt: 2025-02-19 22:16:30 -0500 (Wed, 19 Feb 2025) EllapsedTime: 3.1 seconds RetCode: 0 Status: OK PackageFile: CGHbase_1.67.0.tgz PackageFileSize: 1.061 MiB