Package: CGEN Version: 3.43.0 Command: /home/biocbuild/bbs-3.21-bioc/R/bin/R CMD INSTALL CGEN StartedAt: 2025-02-20 15:08:00 -0500 (Thu, 20 Feb 2025) EndedAt: 2025-02-20 15:08:21 -0500 (Thu, 20 Feb 2025) EllapsedTime: 21.0 seconds RetCode: 0 Status: OK