Package: CGEN Version: 3.43.0 Command: /home/biocbuild/bbs-3.21-bioc/R/bin/R CMD build --keep-empty-dirs --no-resave-data CGEN StartedAt: 2025-02-20 16:52:35 -0500 (Thu, 20 Feb 2025) EndedAt: 2025-02-20 16:53:20 -0500 (Thu, 20 Feb 2025) EllapsedTime: 45.1 seconds RetCode: 0 Status: OK PackageFile: CGEN_3.43.0.tar.gz PackageFileSize: 981.2 KiB