Package: CGEN Version: 3.43.0 Command: /Library/Frameworks/R.framework/Resources/bin/R CMD INSTALL CGEN StartedAt: 2025-02-19 15:33:39 -0500 (Wed, 19 Feb 2025) EndedAt: 2025-02-19 15:34:13 -0500 (Wed, 19 Feb 2025) EllapsedTime: 33.2 seconds RetCode: 0 Status: OK